BEGIN:VCALENDAR
VERSION:2.0
PRODID:-//Girls Like Golf - ECPv6.15.14//NONSGML v1.0//EN
CALSCALE:GREGORIAN
METHOD:PUBLISH
X-ORIGINAL-URL:https://girlslikegolf.com
X-WR-CALDESC:Events for Girls Like Golf
REFRESH-INTERVAL;VALUE=DURATION:PT1H
X-Robots-Tag:noindex
X-PUBLISHED-TTL:PT1H
BEGIN:VTIMEZONE
TZID:UTC
BEGIN:STANDARD
TZOFFSETFROM:+0000
TZOFFSETTO:+0000
TZNAME:UTC
DTSTART:20250101T000000
END:STANDARD
END:VTIMEZONE
BEGIN:VEVENT
DTSTART;TZID=UTC:20260322T141500
DTEND;TZID=UTC:20260322T163000
DTSTAMP:20260422T225003
CREATED:20260220T210156Z
LAST-MODIFIED:20260318T070215Z
UID:5686-1774188900-1774197000@girlslikegolf.com
SUMMARY:Sip & Swing Golf Clinic
DESCRIPTION: Sip & Swing – Spring Kickoff Edition\n\nHosted by Girls Like Golf\nSunday\, March 22nd\n\n\n\n\n\n\n\n \n\n\n\n\n\n\nWe’re back outside and ready to welcome spring in style! \nJoin Girls Like Golf for our first outdoor Sip & Swing of the season at Family Golf and Learning Center. This clinic is the perfect blend of social vibes and skill-building. Designed for women who want to learn\, grow their game\, and connect in a fun\, supportive atmosphere. \nWhether you’re brand new to golf or looking to refine your fundamentals\, this experience is all about confidence\, community\, and clean swings as we step into spring together. \n\n Date:\nSunday\, March 22 \nArrival:\n2:30PM | Please arrive 15 minutes early (exact time will be provided upon registration). \n📍 Location:\nFamily Golf and Learning Center \n\n3717 Tree Court Industrial Blvd\nSt. Louis\, MO 63122\n\n\n Dress Code: Spring Golf Chic\nColors for the day: Green\, White\, Black\, and Tan \nThink polished\, sporty\, and course-ready. Appropriate golf attire includes: \n\n\nCollared golf shirts or modest athletic tops \n\n\nGolf skirts\, skorts\, tailored shorts (appropriate length)\, or golf pants \n\n\nGolf dresses with proper coverage \n\n\nClean athletic or golf shoes \n\n\nWe encourage stylish and confident looks while keeping attire tasteful and golf-appropriate. No overly revealing tops\, excessive cleavage\, or overly short hemlines. Let’s keep it classy\, elevated\, and course ready. \n\nWhat’s Included:\n\n\nProfessional golf instruction \n\n\nGolf clubs provided (or bring your own if you prefer) \n\n\n1 drink ticket to sip after your swing \n\n\nLight bites \n\n\nOutdoor range time to practice and connect \n\n\n\nImportant:\nWe will begin promptly at the scheduled start time\, so please plan accordingly. \nSpring is about fresh starts — and there’s no better way to kick off the season than with good swings\, great company\, and signature Girls Like Golf energy. \nWe can’t wait to see you outside!
URL:https://girlslikegolf.com/event/sip-swing-golf-clinic/
LOCATION:family and golf learning center\, 3717 tree court industrial blvd\, St louis\, MO\, 63122\, United States
CATEGORIES:Club À La Carte,Lifestyle Members Only
END:VEVENT
END:VCALENDAR