BEGIN:VCALENDAR
VERSION:2.0
PRODID:-//Girls Like Golf - ECPv6.15.14//NONSGML v1.0//EN
CALSCALE:GREGORIAN
METHOD:PUBLISH
X-WR-CALNAME:Girls Like Golf
X-ORIGINAL-URL:https://girlslikegolf.com
X-WR-CALDESC:Events for Girls Like Golf
REFRESH-INTERVAL;VALUE=DURATION:PT1H
X-Robots-Tag:noindex
X-PUBLISHED-TTL:PT1H
BEGIN:VTIMEZONE
TZID:UTC
BEGIN:STANDARD
TZOFFSETFROM:+0000
TZOFFSETTO:+0000
TZNAME:UTC
DTSTART:20250101T000000
END:STANDARD
END:VTIMEZONE
BEGIN:VEVENT
DTSTART;TZID=UTC:20260411T121500
DTEND;TZID=UTC:20260411T140000
DTSTAMP:20260422T212333
CREATED:20260318T050627Z
LAST-MODIFIED:20260409T191037Z
UID:5894-1775909700-1775916000@girlslikegolf.com
SUMMARY:Prosecco & Pilates at City Pilates (Lifestyle Members)
DESCRIPTION:Prosecco & Pilates @ City Pilates Saturday\, April 11 · 12:30 PM\n\nYour Saturday just got an upgrade. \nGirls Like Golf is partnering with City Pilates for an afternoon that’s all about resetting body\, mind\, and energy. Prosecco & Pilates is a 90-minute experience designed to help you move intentionally\, exhale fully\, and connect with a room full of women who get it. \nNo experience necessary. Just show up. \nHere’s how the afternoon flows: \nWe’ll welcome you in with a light prosecco pour as you settle onto your reformer. From there\, a certified instructor will lead the full group through a 50-minute reformer session challenging\, supported\, and completely beginner-friendly. After class\, we cool down together with guided stretching\, breath work\, before transitioning into the best part: fruit and prosecco refill\, and genuine conversation. We close with a group toast\, a photo moment\, and an early preview of what’s coming next from GLG. \nMove → Reset → Refresh → Connect → Close. \nThis is the kind of afternoon you’ll want to make a ritual. \nSpots are limited. Reserve yours before they’re gone.
URL:https://girlslikegolf.com/event/prosecco-pilates-city-pilates/
LOCATION:City Pilates\, 1907 Washington Ave\, Saint Louis\, MO\, 63103\, United States
CATEGORIES:Lifestyle Members Only
END:VEVENT
BEGIN:VEVENT
DTSTART;TZID=UTC:20260411T121500
DTEND;TZID=UTC:20260411T140000
DTSTAMP:20260422T212333
CREATED:20260318T050937Z
LAST-MODIFIED:20260325T035529Z
UID:5897-1775909700-1775916000@girlslikegolf.com
SUMMARY:Prosecco & Pilates at City Pilates (À La Carte)
DESCRIPTION:Prosecco & Pilates @ City Pilates Saturday\, April 11 · 12:30 PM\n\nYour Saturday just got an upgrade. \nGirls Like Golf is partnering with City Pilates for an afternoon that’s all about resetting body\, mind\, and energy. Prosecco & Pilates is a 90-minute experience designed to help you move intentionally\, exhale fully\, and connect with a room full of women who get it. \nNo experience necessary. Just show up. \nHere’s how the afternoon flows: \nWe’ll welcome you in with a light prosecco pour as you settle onto your reformer. From there\, a certified instructor will lead the full group through a 50-minute reformer session challenging\, supported\, and completely beginner-friendly. After class\, we cool down together with guided stretching\, breath work\, and eucalyptus towels before transitioning into the best part: fruit\, light bites\, a prosecco refill\, and genuine conversation in a seated circle. We close with a group toast\, a photo moment\, and an early preview of what’s coming next from GLG. \nMove → Reset → Refresh → Connect → Close. \nThis is the kind of afternoon you’ll want to make a ritual. \nSpots are limited. Reserve yours before they’re gone. \n  \nNon-Refundable. 
URL:https://girlslikegolf.com/event/prosecco-pilates-city-pilates-2/
LOCATION:City Pilates\, 1907 Washington Ave\, Saint Louis\, MO\, 63103\, United States
CATEGORIES:Club À La Carte
END:VEVENT
END:VCALENDAR