BEGIN:VCALENDAR
VERSION:2.0
PRODID:-//Girls Like Golf - ECPv6.15.14//NONSGML v1.0//EN
CALSCALE:GREGORIAN
METHOD:PUBLISH
X-WR-CALNAME:Girls Like Golf
X-ORIGINAL-URL:https://girlslikegolf.com
X-WR-CALDESC:Events for Girls Like Golf
REFRESH-INTERVAL;VALUE=DURATION:PT1H
X-Robots-Tag:noindex
X-PUBLISHED-TTL:PT1H
BEGIN:VTIMEZONE
TZID:UTC
BEGIN:STANDARD
TZOFFSETFROM:+0000
TZOFFSETTO:+0000
TZNAME:UTC
DTSTART:20250101T000000
END:STANDARD
END:VTIMEZONE
BEGIN:VEVENT
DTSTART;TZID=UTC:20260423T180000
DTEND;TZID=UTC:20260423T203000
DTSTAMP:20260423T012554
CREATED:20260318T063202Z
LAST-MODIFIED:20260421T163516Z
UID:5900-1776967200-1776976200@girlslikegolf.com
SUMMARY:The PRESTIGE Pour @ Clayton Winehouse
DESCRIPTION:The PRESTIGE Pour: GLG One Year Celebration\n Clayton Winehouse Thursday\, April 23 · 6:00 PM \n\nThis one is for everyone. \nPRESTIGE Pour marks one year of Girls Like Golf. \nJoin us at Clayton Winehouse for an elevated evening of curated wine tastings\, intentional conversation\, and meaningful connection in a refined\, social setting. \nThis is not your typical mixer. The experience is designed to feel effortless yet elevated\, with just enough structure to spark connection while allowing the night to unfold naturally. \nWhat to expect: \n• Open wine station with guided tastings throughout the evening \n• Charcuterie pairing experience \n• Complimentary headshot activation \n• Putting station \n• Open networking and a smooth\, intentional close to the night \nOpen to all. Come ready to connect. \nAll tickets are non-refundable. \n  \n 
URL:https://girlslikegolf.com/event/the-prestige-pour-clayton-winehouse/
LOCATION:Clayton Winehouse\, 7911 Clayton Rd\, Clayton\, MO\, 63117\, United States
CATEGORIES:Public Events
ATTACH;FMTTYPE=image/jpeg:https://girlslikegolf.com/wp-content/uploads/2026/03/37620a25-0b0a-40de-a11b-30df0b4bfd5c-md.jpeg
END:VEVENT
BEGIN:VEVENT
DTSTART;TZID=UTC:20260423T180000
DTEND;TZID=UTC:20260423T203000
DTSTAMP:20260423T012554
CREATED:20260318T063648Z
LAST-MODIFIED:20260421T163637Z
UID:5912-1776967200-1776976200@girlslikegolf.com
SUMMARY:The PRESTIGE Pour @ Clayton Winehouse (Lifestyle Members)
DESCRIPTION:The PRESTIGE Pour @ Clayton Winehouse Thursday\, April 23 · 6:00 PM \n\nThis one’s for everyone. \nThe PRESTIGE Pour is Girls Like Golf’s first co-ed networking experience and we’re making it count. Join us at Clayton Wine Bar for an elevated evening of curated wine tastings\, meaningful conversation\, and the kind of connections that actually go somewhere. \nThis isn’t your typical mixer. The night is designed to be intentional without feeling stiff. Think structured fun with room to breathe. \nWhat to expect: \n\nOpen wine station + guided mini tastings throughout the night\nCharcuterie pairing station\nComplimentary headshot activation\nPutting station\nNetworking Bingo — complete your card\, win a prize\nElevator Pitch Lab — rotating rounds where you perfect your 30-second pitch and compete for the crowd’s favorite\nOpen networking\, final wine pours\, and a soft close to end the night right\n\nOpen to all genders. Come ready to connect. \nNon-Refundable.  \n 
URL:https://girlslikegolf.com/event/the-prestige-pour-clayton-winehouse-2/
LOCATION:Clayton Winehouse\, 7911 Clayton Rd\, Clayton\, MO\, 63117\, United States
CATEGORIES:Lifestyle Members Only
ATTACH;FMTTYPE=image/jpeg:https://girlslikegolf.com/wp-content/uploads/2026/03/37620a25-0b0a-40de-a11b-30df0b4bfd5c-md.jpeg
END:VEVENT
BEGIN:VEVENT
DTSTART;TZID=UTC:20260423T180000
DTEND;TZID=UTC:20260423T203000
DTSTAMP:20260423T012554
CREATED:20260318T063942Z
LAST-MODIFIED:20260421T163553Z
UID:5915-1776967200-1776976200@girlslikegolf.com
SUMMARY:The PRESTIGE Pour @ Clayton Winehouse (À La Carte)
DESCRIPTION:The PRESTIGE Pour @ Clayton Winehouse Thursday\, April 23 · 6:00 PM \n\nThis one’s for everyone. \nThe PRESTIGE Pour is Girls Like Golf’s first co-ed networking experience and we’re making it count. Join us at Clayton Wine Bar for an elevated evening of curated wine tastings\, meaningful conversation\, and the kind of connections that actually go somewhere. \nThis isn’t your typical mixer. The night is designed to be intentional without feeling stiff. Think structured fun with room to breathe. \nWhat to expect: \n\nOpen wine station + guided mini tastings throughout the night\nCharcuterie pairing station\nComplimentary headshot activation\nPutting station\nNetworking Bingo — complete your card\, win a prize\nElevator Pitch Lab — rotating rounds where you perfect your 30-second pitch and compete for the crowd’s favorite\nOpen networking\, final wine pours\, and a soft close to end the night right\n\nOpen to all genders. Come ready to connect. \nNon-Refundable.
URL:https://girlslikegolf.com/event/the-prestige-pour-clayton-winehouse-3/
LOCATION:Clayton Winehouse\, 7911 Clayton Rd\, Clayton\, MO\, 63117\, United States
CATEGORIES:Club À La Carte,GLG Events
ATTACH;FMTTYPE=image/jpeg:https://girlslikegolf.com/wp-content/uploads/2026/03/37620a25-0b0a-40de-a11b-30df0b4bfd5c-md.jpeg
END:VEVENT
END:VCALENDAR