BEGIN:VCALENDAR
VERSION:2.0
PRODID:-//Girls Like Golf - ECPv6.15.14//NONSGML v1.0//EN
CALSCALE:GREGORIAN
METHOD:PUBLISH
X-WR-CALNAME:Girls Like Golf
X-ORIGINAL-URL:https://girlslikegolf.com
X-WR-CALDESC:Events for Girls Like Golf
REFRESH-INTERVAL;VALUE=DURATION:PT1H
X-Robots-Tag:noindex
X-PUBLISHED-TTL:PT1H
BEGIN:VTIMEZONE
TZID:UTC
BEGIN:STANDARD
TZOFFSETFROM:+0000
TZOFFSETTO:+0000
TZNAME:UTC
DTSTART:20250101T000000
END:STANDARD
END:VTIMEZONE
BEGIN:VEVENT
DTSTART;TZID=UTC:20260530T123000
DTEND;TZID=UTC:20260530T134500
DTSTAMP:20260422T223906
CREATED:20260413T192451Z
LAST-MODIFIED:20260415T033358Z
UID:6238-1780144200-1780148700@girlslikegolf.com
SUMMARY:Reset & Reform at City Pilates (Lifestyle Members)
DESCRIPTION:Reset & Reform at City Pilates\nA Reformer Pilates Experience by Girls Like Golf\nSaturday\, May 30th | 12:30 PM\n  \nStep into a more intentional way to move. \nGirls Like Golf is partnering with City Pilates for a private reformer Pilates experience designed to help you reset\, strengthen\, and move with control. This is a curated\, small group session focused on core strength\, alignment\, and flexibility. Key elements that translate both on and off the course. \nWe’ll begin with a guided 50 minute reformer class\, followed by time to unwind and connect in a relaxed\, elevated setting. \nDate: Sunday\, May 17Time: 12:30 PM \n📍 Location: City Pilates \nWhat to Expect: \n\n50-minute guided reformer Pilates session\nFocus on core strength\, alignment\, and control\n Post-class time to connect and reset\nLight refreshments including water\, coconut water\, and pressed juices\n\nImportant:We will begin promptly at 12:30 PM. \nLate arrival is not permitted.
URL:https://girlslikegolf.com/event/prosecco-pilates-at-city-pilates-lifestyle-members/
LOCATION:City Pilates\, 1907 Washington Ave\, Saint Louis\, MO\, 63103\, United States
CATEGORIES:Lifestyle Members Only
ATTACH;FMTTYPE=image/png:https://girlslikegolf.com/wp-content/uploads/2026/04/2933F49E-1094-41EC-A706-645012061CB2.png
END:VEVENT
BEGIN:VEVENT
DTSTART;TZID=UTC:20260530T123000
DTEND;TZID=UTC:20260530T134500
DTSTAMP:20260422T223906
CREATED:20260413T192756Z
LAST-MODIFIED:20260413T224120Z
UID:6243-1780144200-1780148700@girlslikegolf.com
SUMMARY:Reset & Reform at City Pilates (À La Carte)
DESCRIPTION:Reset & Reform at City Pilates\nA Reformer Pilates Experience by Girls Like Golf\nSaturday\, May 30th | 12:30 PM\n  \nStep into a more intentional way to move. \nGirls Like Golf is partnering with City Pilates for a private reformer Pilates experience designed to help you reset\, strengthen\, and move with control. This is a curated\, small group session focused on core strength\, alignment\, and flexibility. Key elements that translate both on and off the course. \nWe’ll begin with a guided 50 minute reformer class\, followed by time to unwind and connect in a relaxed\, elevated setting. \nDate: Sunday\, May 17Time: 9:30 AM \n📍 Location: City Pilates \nWhat to Expect: \n\n50-minute guided reformer Pilates session\nFocus on core strength\, alignment\, and control\n Post-class time to connect and reset\nLight refreshments including water\, coconut water\, and pressed juices\n\nImportant:We will begin promptly at 9:30 AM. Late arrival is not permitted. \nAll Sales Final.
URL:https://girlslikegolf.com/event/prosecco-pilates-at-city-pilates-a-la-carte/
LOCATION:City Pilates\, 1907 Washington Ave\, Saint Louis\, MO\, 63103\, United States
CATEGORIES:Club À La Carte,GLG Events
ATTACH;FMTTYPE=image/png:https://girlslikegolf.com/wp-content/uploads/2026/04/2933F49E-1094-41EC-A706-645012061CB2.png
END:VEVENT
END:VCALENDAR