BEGIN:VCALENDAR
VERSION:2.0
PRODID:-//Girls Like Golf - ECPv6.15.14//NONSGML v1.0//EN
CALSCALE:GREGORIAN
METHOD:PUBLISH
X-WR-CALNAME:Girls Like Golf
X-ORIGINAL-URL:https://girlslikegolf.com
X-WR-CALDESC:Events for Girls Like Golf
REFRESH-INTERVAL;VALUE=DURATION:PT1H
X-Robots-Tag:noindex
X-PUBLISHED-TTL:PT1H
BEGIN:VTIMEZONE
TZID:UTC
BEGIN:STANDARD
TZOFFSETFROM:+0000
TZOFFSETTO:+0000
TZNAME:UTC
DTSTART:20250101T000000
END:STANDARD
END:VTIMEZONE
BEGIN:VEVENT
DTSTART;TZID=UTC:20260305T170000
DTEND;TZID=UTC:20260305T193000
DTSTAMP:20260422T225034
CREATED:20260220T204918Z
LAST-MODIFIED:20260225T042114Z
UID:5682-1772730000-1772739000@girlslikegolf.com
SUMMARY:Par-Tee Happy Hour at Puttshack (Public)
DESCRIPTION:Girls Like Golf Happy Hour at Puttshack\nThursday\, March 5th | 5PM \nPuttshack St. Louis \nJoin us for a fun and relaxed evening at Puttshack for the GLG Happy Hour. This midweek event is the perfect mix of good drinks\, great energy\, and even better company. Connect with fellow golf lovers\, unwind after work\, and enjoy a night filled with conversation\, networking\, and a little friendly competition on the tech-infused mini golf course. \nWhether you’re a seasoned golfer or just here for the vibes\, this event is all about good times and building community. Grab your friends and meet us at Puttshack for a happy hour you won’t want to miss. \n  \n21+ required
URL:https://girlslikegolf.com/event/par-tee-happy-hour-at-puttshack-public/
LOCATION:PuttShack\, 3730 foundry way\, St. Louis\, MO\, 63110\, United States
CATEGORIES:Club À La Carte,GLG Events,Lifestyle Members Only,Public Events
ATTACH;FMTTYPE=image/jpeg:https://girlslikegolf.com/wp-content/uploads/2026/02/Bazaart_41F0671A-1913-4116-9CF1-63A4DF3F3DE5.jpeg
END:VEVENT
BEGIN:VEVENT
DTSTART;TZID=UTC:20260329T114500
DTEND;TZID=UTC:20260329T114500
DTSTAMP:20260422T225034
CREATED:20260221T003232Z
LAST-MODIFIED:20260323T194643Z
UID:5695-1774784700-1774784700@girlslikegolf.com
SUMMARY:Hot Pilates at TruFusion Foundry (À La Carte)
DESCRIPTION:Hot Pilates at Tru Fusion Foundry\nJoin us at TruFusion for a heated Pilates session focused on strength\, control\, and intentional movement. This low-impact\, high-intensity class is designed to sculpt\, strengthen\, and reset. While connecting with fellow GLG Members in a motivating\, elevated environment. \nLimited spots available. RSVP required.Come ready to sweat\, stretch\, and step back into your week feeling strong and aligned. \n\nNon-Refundable. 
URL:https://girlslikegolf.com/event/hot-pilates-at-trufusion-foundry-a-la-carte-2/
LOCATION:TruFusion Foundry\, 3770 Foundry Way Suite 192\, St. Louis\, MO\, 63110\, United States
CATEGORIES:Club À La Carte,GLG Events
END:VEVENT
END:VCALENDAR