BEGIN:VCALENDAR
VERSION:2.0
PRODID:-//Girls Like Golf - ECPv6.15.14//NONSGML v1.0//EN
CALSCALE:GREGORIAN
METHOD:PUBLISH
X-WR-CALNAME:Girls Like Golf
X-ORIGINAL-URL:https://girlslikegolf.com
X-WR-CALDESC:Events for Girls Like Golf
REFRESH-INTERVAL;VALUE=DURATION:PT1H
X-Robots-Tag:noindex
X-PUBLISHED-TTL:PT1H
BEGIN:VTIMEZONE
TZID:UTC
BEGIN:STANDARD
TZOFFSETFROM:+0000
TZOFFSETTO:+0000
TZNAME:UTC
DTSTART:20250101T000000
END:STANDARD
END:VTIMEZONE
BEGIN:VEVENT
DTSTART;TZID=UTC:20260402T180000
DTEND;TZID=UTC:20260402T203000
DTSTAMP:20260422T224320
CREATED:20260318T044540Z
LAST-MODIFIED:20260320T050321Z
UID:5872-1775152800-1775161800@girlslikegolf.com
SUMMARY:Swing & Shop Social at PGA TOUR Superstore
DESCRIPTION:Swing & Shop Social @ PGA Tour Superstore Thursday\, April 2 · 6:00 PM\n\nGirls Like Golf is taking over PGA Tour Superstore for an evening that’s equal parts sport\, style\, and sisterhood. \nWhether you’re brand new to the game or already a seasoned golfer\, the Swing & Shop Social is your invitation to try the equipment\, meet the community\, and feel right at home on the turf. \nWhat’s waiting for you inside: \nLive swing demonstrations and custom fittings led by a PGA professional\, open hitting bays to test clubs and explore what feels right for your game\, exclusive in-store shopping perks and attendee-only discounts on qualifying items\, fun competitions with gift cards up for grabs\, and casual\, guided networking with golf-curious and golf-loving women just like you. \nBring your own clubs if you’d like a personalized fitting or want to put them to use during the demonstrations and competitions but don’t worry if you’re coming empty-handed. Everything you need will be there. \nThis one’s free to attend\, easy to love\, and the perfect first step into the GLG community. \nSpace is limited — reserve your spot and come ready to swing.
URL:https://girlslikegolf.com/event/swing-shop-social-at-pga-tour-superstore/
LOCATION:PGA TOUR Superstore St. Louis\, 141 Highlands Blvd Dr\, Manchester\, MO\, 63011\, United States
CATEGORIES:Club À La Carte,GLG Events,Lifestyle Members Only,Public Events
ATTACH;FMTTYPE=image/png:https://girlslikegolf.com/wp-content/uploads/2026/03/97F372C1-CA6E-4E52-AB93-CFA8432A16CD.png
END:VEVENT
END:VCALENDAR