BEGIN:VCALENDAR
VERSION:2.0
PRODID:-//Girls Like Golf - ECPv6.15.14//NONSGML v1.0//EN
CALSCALE:GREGORIAN
METHOD:PUBLISH
X-WR-CALNAME:Girls Like Golf
X-ORIGINAL-URL:https://girlslikegolf.com
X-WR-CALDESC:Events for Girls Like Golf
REFRESH-INTERVAL;VALUE=DURATION:PT1H
X-Robots-Tag:noindex
X-PUBLISHED-TTL:PT1H
BEGIN:VTIMEZONE
TZID:UTC
BEGIN:STANDARD
TZOFFSETFROM:+0000
TZOFFSETTO:+0000
TZNAME:UTC
DTSTART:20250101T000000
END:STANDARD
END:VTIMEZONE
BEGIN:VEVENT
DTSTART;TZID=UTC:20260419T143000
DTEND;TZID=UTC:20260419T170000
DTSTAMP:20260422T224319
CREATED:20260318T071033Z
LAST-MODIFIED:20260416T182035Z
UID:5941-1776609000-1776618000@girlslikegolf.com
SUMMARY:Sip & Swing: Spring Edition · Outdoor Golf Clinic
DESCRIPTION:Sip & Swing: Spring Edition II April · Outdoor Golf Clinic\n\nThe season is in full swing and so are we. \nGirls Like Golf is back outside for our second outdoor Sip & Swing of the year\, and April means one thing: the weather is warming up\, the energy is higher\, and we’re hitting our stride. If you missed March\, this is your moment. If you were there\, you already know why you’re coming back. \nSame signature format you love. Professional instruction\, range time\, light bites\, and your drink ticket but spring is officially settled in and we’re showing up accordingly. \nWhether you’re still building your foundation or already feeling confident from the last clinic\, every level is welcome and every swing counts. \nDate: Sunday\, April 19 Arrival: 2:30PM | Please arrive 15 minutes early \n📍 Location: Family Golf and Learning Center 3717 Tree Court Industrial Blvd\, St. Louis\, MO 63122 \nDress Code: Spring Golf — April Edition Colors of the day: Green\, White\, Black\, and Tan Think polished\, sporty\, and course ready. Appropriate attire includes collared golf shirts or modest athletic tops\, golf skirts\, skorts\, tailored shorts\, or golf pants\, golf dresses with proper coverage\, and clean athletic or golf shoes. Keep it classy\, elevated\, and course-ready. No overly revealing tops or excessively short hemlines. \nWhat’s Included: \n\nProfessional golf instruction\nGolf clubs provided (or bring your own)\n1 drink ticket\nLight bites\nOutdoor range time to practice and connect\n\nImportant: We begin promptly at the scheduled start time. Please plan accordingly. \n  \nMembers Only.
URL:https://girlslikegolf.com/event/sip-swing-spring-edition-%c2%b7-outdoor-golf-clinic/
LOCATION:family and golf learning center\, 3717 tree court industrial blvd\, St louis\, MO\, 63122\, United States
CATEGORIES:Club À La Carte,GLG Events,Lifestyle Members Only
END:VEVENT
END:VCALENDAR