BEGIN:VCALENDAR
VERSION:2.0
PRODID:-//Girls Like Golf - ECPv6.15.14//NONSGML v1.0//EN
CALSCALE:GREGORIAN
METHOD:PUBLISH
X-ORIGINAL-URL:https://girlslikegolf.com
X-WR-CALDESC:Events for Girls Like Golf
REFRESH-INTERVAL;VALUE=DURATION:PT1H
X-Robots-Tag:noindex
X-PUBLISHED-TTL:PT1H
BEGIN:VTIMEZONE
TZID:UTC
BEGIN:STANDARD
TZOFFSETFROM:+0000
TZOFFSETTO:+0000
TZNAME:UTC
DTSTART:20250101T000000
END:STANDARD
END:VTIMEZONE
BEGIN:VEVENT
DTSTART;TZID=UTC:20260426T124500
DTEND;TZID=UTC:20260426T140000
DTSTAMP:20260422T224452
CREATED:20260318T065032Z
LAST-MODIFIED:20260323T194012Z
UID:5922-1777207500-1777212000@girlslikegolf.com
SUMMARY:Cycling at TruFusion Foundry (À La Carte)
DESCRIPTION:Ride With Us @ Tru Fusion Foundry Sunday\, April 26 · 1:00 PM\n\nClip in. Show up. Keep up. \nGirls Like Golf is taking the energy off the course and into the studio for an instructor-led cycling class at Tru Fusion Foundry. This one is open to all women — members and the public alike. Bring your competitive spirit\, and come ready to sweat. \nNo golf experience required. No prior cycling experience required. Just a willingness to push yourself in a room full of women doing the same. \nSpots are limited\, so reserve yours in advance. \n  \nNon-Refundable. 
URL:https://girlslikegolf.com/event/cycling-at-trufusion-foundry/
LOCATION:TruFusion Foundry\, 3770 Foundry Way Suite 192\, St. Louis\, MO\, 63110\, United States
CATEGORIES:Club À La Carte,GLG Events
END:VEVENT
END:VCALENDAR