BEGIN:VCALENDAR
VERSION:2.0
PRODID:-//Girls Like Golf - ECPv6.15.14//NONSGML v1.0//EN
CALSCALE:GREGORIAN
METHOD:PUBLISH
X-WR-CALNAME:Girls Like Golf
X-ORIGINAL-URL:https://girlslikegolf.com
X-WR-CALDESC:Events for Girls Like Golf
REFRESH-INTERVAL;VALUE=DURATION:PT1H
X-Robots-Tag:noindex
X-PUBLISHED-TTL:PT1H
BEGIN:VTIMEZONE
TZID:UTC
BEGIN:STANDARD
TZOFFSETFROM:+0000
TZOFFSETTO:+0000
TZNAME:UTC
DTSTART:20250101T000000
END:STANDARD
END:VTIMEZONE
BEGIN:VEVENT
DTSTART;TZID=UTC:20260517T093000
DTEND;TZID=UTC:20260517T110000
DTSTAMP:20260422T200750
CREATED:20260413T210020Z
LAST-MODIFIED:20260420T211358Z
UID:6263-1779010200-1779015600@girlslikegolf.com
SUMMARY:Pilates & Private Shopping | Girls Like Golf × Lululemon
DESCRIPTION:Girls Like Golf × Lululemon\nSunday\, May 17th | 9:30AM\nStart your Sunday with intention. \nGirls Like Golf is partnering with Lululemon at Plaza Frontenac for a private Pilates and shopping experience before the store opens. This exclusive event begins with a guided\, one hour mat Pilates session\, followed by early access to shop Lululemon’s latest drops. Including their new golf collection before doors open to the public. \nThis is a curated\, small group experience designed to move\, reset\, and connect in a private setting. \nDate: Sunday\, May 17Time: 9:30 AM \n📍 Location: Lululemon · Plaza Frontenac \nWhat to Expect: \n\n1-hour guided mat Pilates session\nPrivate shopping experience before store opening\nEarly access to Lululemon’s new golf collection\n\nImportant:We will begin promptly at 9:30 AM. \nLate arrival is not permitted. \nAccess:Limited spots available
URL:https://girlslikegolf.com/event/pilates-private-shopping-girls-like-golf-x-lululemon-2/
LOCATION:Lululemon Plaza Frontenac\, 1701 S Lindbergh Blvd Unit 247\, Frontenac\, MO\, 63131\, United States
CATEGORIES:Public Events
ATTACH;FMTTYPE=image/jpeg:https://girlslikegolf.com/wp-content/uploads/2026/04/IMG_7651.jpeg
END:VEVENT
BEGIN:VEVENT
DTSTART;TZID=UTC:20260519T090000
DTEND;TZID=UTC:20260519T170000
DTSTAMP:20260422T200750
CREATED:20260415T172739Z
LAST-MODIFIED:20260415T235215Z
UID:6298-1779181200-1779210000@girlslikegolf.com
SUMMARY:GLG On the Course: Fore Greater Golf Tournament
DESCRIPTION:Girls Like Golf is stepping onto the course for a full tournament experience. \nWe’re participating in the 5th Annual Fore Greater Golf Tournament\, hosted by Urban Golf of Greater St. Louis. An organization dedicated to exposing youth to the game of golf and creating opportunities beyond the course. \nThis is a foursome scramble-style tournament\, perfect for both seasoned golfers and those looking to gain real on-course experience in a fun\, high-energy environment. \nWe’ll start the morning together at Norwood Hills Country Club\, one of St. Louis’ most historic and premier golf courses\, before heading into a full day of play\, connection\, and competition. \nSchedule: \n\n9:00 AM – Tournament Check-In\n10:00 AM – Breakfast\n11:00 AM – Shotgun Start\n\nWhat to Expect: \n\n18-hole scramble format (team-based play)\nOn-course games\, raffles\, and activations\nNetworking with golfers and professionals across St. Louis\nA chance to represent Girls Like Golf in a larger golf community\n\nInvestment:$300 per player (foursome entry) \nThis is more than just a tournament. It’s an opportunity to show up\, represent\, and expand GLG’s presence in the golf space while supporting a meaningful cause. \nSpots are limited. If you’re interested in playing with GLG\, secure your spot early. \nClick Here for more Information
URL:https://girlslikegolf.com/event/glg-on-the-course-fore-greater-golf-tournament/
LOCATION:Norwood Hills Country Club\, 1 Norwood Hills Country Club Dr\, St. Louis\, MO\, 63121\, United States
CATEGORIES:Club À La Carte,GLG Events,Lifestyle Members Only,Public Events
ATTACH;FMTTYPE=image/jpeg:https://girlslikegolf.com/wp-content/uploads/2026/04/IMG_7343.jpg
END:VEVENT
END:VCALENDAR