BEGIN:VCALENDAR
VERSION:2.0
PRODID:-//Girls Like Golf - ECPv6.15.14//NONSGML v1.0//EN
CALSCALE:GREGORIAN
METHOD:PUBLISH
X-ORIGINAL-URL:https://girlslikegolf.com
X-WR-CALDESC:Events for Girls Like Golf
REFRESH-INTERVAL;VALUE=DURATION:PT1H
X-Robots-Tag:noindex
X-PUBLISHED-TTL:PT1H
BEGIN:VTIMEZONE
TZID:UTC
BEGIN:STANDARD
TZOFFSETFROM:+0000
TZOFFSETTO:+0000
TZNAME:UTC
DTSTART:20250101T000000
END:STANDARD
END:VTIMEZONE
BEGIN:VEVENT
DTSTART;TZID=UTC:20260215T120000
DTEND;TZID=UTC:20260215T140000
DTSTAMP:20260422T224604
CREATED:20260202T184238Z
LAST-MODIFIED:20260213T042858Z
UID:5422-1771156800-1771164000@girlslikegolf.com
SUMMARY:Brunch & Swing at Four Seasons (Public)
DESCRIPTION:Experience Girls Like Golf during our Brunch & Swing event hosted at the Four Seasons Topgolf Swing Suite.\nThis two-hour private experience offers social golf play in a luxury environment alongside the GLG community. Whether you’re new to golf or simply joining for the atmosphere\, this event is designed to be fun\, welcoming\, and elevated. \nFood and beverages will be available for purchase directly through the venue. \nLimited availability. Open to non-members.
URL:https://girlslikegolf.com/event/brunch-swing-at-four-seasons-public/
LOCATION:Topgolf Swing Suite Four Seasons\, 999 N 2nd St.\, St. Louis\, Missouri\, 63102\, United States
CATEGORIES:Public Events
ATTACH;FMTTYPE=image/png:https://girlslikegolf.com/wp-content/uploads/2026/02/02C3AD99-9ABB-48C5-BC33-BD9EF720166A-2.png
END:VEVENT
END:VCALENDAR