BEGIN:VCALENDAR
VERSION:2.0
PRODID:-//Girls Like Golf - ECPv6.15.14//NONSGML v1.0//EN
CALSCALE:GREGORIAN
METHOD:PUBLISH
X-WR-CALNAME:Girls Like Golf
X-ORIGINAL-URL:https://girlslikegolf.com
X-WR-CALDESC:Events for Girls Like Golf
REFRESH-INTERVAL;VALUE=DURATION:PT1H
X-Robots-Tag:noindex
X-PUBLISHED-TTL:PT1H
BEGIN:VTIMEZONE
TZID:UTC
BEGIN:STANDARD
TZOFFSETFROM:+0000
TZOFFSETTO:+0000
TZNAME:UTC
DTSTART:20250101T000000
END:STANDARD
END:VTIMEZONE
BEGIN:VEVENT
DTSTART;TZID=UTC:20260125T114500
DTEND;TZID=UTC:20260125T130000
DTSTAMP:20260423T074639
CREATED:20251223T194903Z
LAST-MODIFIED:20260122T010547Z
UID:4702-1769341500-1769346000@girlslikegolf.com
SUMMARY:Hot Pilates at TruFusion Foundry (Public)
DESCRIPTION:Join us at TruFusion for a heated Pilates session focused on strength\, control\, and intentional movement. This low-impact\, high-intensity class is designed to sculpt\, strengthen\, and reset. While connecting with both GLG members and guests in a motivating\, elevated environment. \nWhether you’re part of the GLG community or joining us for the first time\, this wellness experience offers the perfect balance of challenge\, energy\, and connection. \nLimited spots available. RSVP required.Come ready to sweat\, stretch\, and step back into your week feeling strong and aligned.
URL:https://girlslikegolf.com/event/hot-pilates-at-trufusion-foundry-public/
LOCATION:TruFusion Foundry\, 3770 Foundry Way Suite 192\, St. Louis\, MO\, 63110\, United States
CATEGORIES:Public Events
ATTACH;FMTTYPE=image/png:https://girlslikegolf.com/wp-content/uploads/2025/12/FFCA4C52-A0C6-4EF0-AF83-989C480369AE.png
END:VEVENT
BEGIN:VEVENT
DTSTART;TZID=UTC:20260125T114500
DTEND;TZID=UTC:20260125T130000
DTSTAMP:20260423T074639
CREATED:20251223T194314Z
LAST-MODIFIED:20260122T010518Z
UID:4699-1769341500-1769346000@girlslikegolf.com
SUMMARY:Hot Pilates at TruFusion Foundry (À La Carte)
DESCRIPTION:Join us at TruFusion for a heated Pilates session focused on strength\, control\, and intentional movement. This low-impact\, high-intensity class is designed to sculpt\, strengthen\, and reset. While connecting with fellow GLG Members in a motivating\, elevated environment. \nLimited spots available. RSVP required.Come ready to sweat\, stretch\, and step back into your week feeling strong and aligned.
URL:https://girlslikegolf.com/event/hot-pilates-at-trufusion-foundry-a-la-carte/
LOCATION:TruFusion Foundry\, 3770 Foundry Way Suite 192\, St. Louis\, MO\, 63110\, United States
CATEGORIES:Club À La Carte
ATTACH;FMTTYPE=image/png:https://girlslikegolf.com/wp-content/uploads/2025/12/FFCA4C52-A0C6-4EF0-AF83-989C480369AE.png
END:VEVENT
BEGIN:VEVENT
DTSTART;TZID=UTC:20260125T114500
DTEND;TZID=UTC:20260125T130000
DTSTAMP:20260423T074639
CREATED:20251223T194028Z
LAST-MODIFIED:20260122T010622Z
UID:4694-1769341500-1769346000@girlslikegolf.com
SUMMARY:Hot Pilates at TruFusion Foundry (Lifestyle Members)
DESCRIPTION:Join us at TruFusion for a heated Pilates session focused on strength\, control\, and intentional movement. This low-impact\, high-intensity class is designed to sculpt\, strengthen\, and reset. While connecting with fellow GLG Members in a motivating\, elevated environment. \nLimited spots available. RSVP required.Come ready to sweat\, stretch\, and step back into your week feeling strong and aligned.
URL:https://girlslikegolf.com/event/hot-pilates-at-trufusion-foundry-lifestyle-members/
LOCATION:TruFusion Foundry\, 3770 Foundry Way Suite 192\, St. Louis\, MO\, 63110\, United States
CATEGORIES:Lifestyle Members Only
ATTACH;FMTTYPE=image/png:https://girlslikegolf.com/wp-content/uploads/2025/12/FFCA4C52-A0C6-4EF0-AF83-989C480369AE.png
END:VEVENT
END:VCALENDAR