BEGIN:VCALENDAR
VERSION:2.0
PRODID:-//Girls Like Golf - ECPv6.15.14//NONSGML v1.0//EN
CALSCALE:GREGORIAN
METHOD:PUBLISH
X-WR-CALNAME:Girls Like Golf
X-ORIGINAL-URL:https://girlslikegolf.com
X-WR-CALDESC:Events for Girls Like Golf
REFRESH-INTERVAL;VALUE=DURATION:PT1H
X-Robots-Tag:noindex
X-PUBLISHED-TTL:PT1H
BEGIN:VTIMEZONE
TZID:UTC
BEGIN:STANDARD
TZOFFSETFROM:+0000
TZOFFSETTO:+0000
TZNAME:UTC
DTSTART:20250101T000000
END:STANDARD
END:VTIMEZONE
BEGIN:VEVENT
DTSTART;TZID=UTC:20260215T120000
DTEND;TZID=UTC:20260215T140000
DTSTAMP:20260423T072540
CREATED:20260202T184238Z
LAST-MODIFIED:20260213T042858Z
UID:5422-1771156800-1771164000@girlslikegolf.com
SUMMARY:Brunch & Swing at Four Seasons (Public)
DESCRIPTION:Experience Girls Like Golf during our Brunch & Swing event hosted at the Four Seasons Topgolf Swing Suite.\nThis two-hour private experience offers social golf play in a luxury environment alongside the GLG community. Whether you’re new to golf or simply joining for the atmosphere\, this event is designed to be fun\, welcoming\, and elevated. \nFood and beverages will be available for purchase directly through the venue. \nLimited availability. Open to non-members.
URL:https://girlslikegolf.com/event/brunch-swing-at-four-seasons-public/
LOCATION:Topgolf Swing Suite Four Seasons\, 999 N 2nd St.\, St. Louis\, Missouri\, 63102\, United States
CATEGORIES:Public Events
ATTACH;FMTTYPE=image/png:https://girlslikegolf.com/wp-content/uploads/2026/02/02C3AD99-9ABB-48C5-BC33-BD9EF720166A-2.png
END:VEVENT
BEGIN:VEVENT
DTSTART;TZID=UTC:20260215T120000
DTEND;TZID=UTC:20260215T140000
DTSTAMP:20260423T072540
CREATED:20260121T022359Z
LAST-MODIFIED:20260213T042527Z
UID:4983-1771156800-1771164000@girlslikegolf.com
SUMMARY:Brunch & Swing at Four Seasons (À La Carte)
DESCRIPTION:Join Girls Like Golf for a refined Brunch & Swing experience at the Four Seasons Topgolf Swing Suite. \nThis two-hour private suite experience blends social golf\, community\, and elevated brunch vibes in an intimate setting. The event is beginner-friendly and focused on connection\, conversation\, and enjoying the game at your own pace. \nFood and beverages will be available for purchase directly through the venue. \nLimited availability. Active Club membership required.
URL:https://girlslikegolf.com/event/brunch-swing-at-four-seasons-a-la-carte/
LOCATION:Topgolf Swing Suite Four Seasons\, 999 N 2nd St.\, St. Louis\, Missouri\, 63102\, United States
CATEGORIES:Club À La Carte
ATTACH;FMTTYPE=image/png:https://girlslikegolf.com/wp-content/uploads/2026/02/02C3AD99-9ABB-48C5-BC33-BD9EF720166A-2.png
END:VEVENT
BEGIN:VEVENT
DTSTART;TZID=UTC:20260215T120000
DTEND;TZID=UTC:20260215T140000
DTSTAMP:20260423T072540
CREATED:20260121T012430Z
LAST-MODIFIED:20260213T042612Z
UID:4953-1771156800-1771164000@girlslikegolf.com
SUMMARY:Brunch & Swing at Four Seasons (Lifestyle Members)
DESCRIPTION:Enjoy an elevated Girls Like Golf experience designed for our Lifestyle members. \nThis two-hour Brunch & Swing event takes place inside the Four Seasons Topgolf Swing Suite\, offering a relaxed\, social golf experience in a luxury setting. Guests will rotate through interactive golf play while connecting with fellow GLG members. \nLifestyle members receive one complimentary mimosa as part of this experience. Food and additional beverages will be available for purchase directly through the venue. \nLimited availability. Lifestyle membership verification required.
URL:https://girlslikegolf.com/event/brunch-swing-four-seasons-lifestyle-members/
LOCATION:Topgolf Swing Suite Four Seasons\, 999 N 2nd St.\, St. Louis\, Missouri\, 63102\, United States
CATEGORIES:GLG Events,Lifestyle Members Only
ATTACH;FMTTYPE=image/png:https://girlslikegolf.com/wp-content/uploads/2026/02/02C3AD99-9ABB-48C5-BC33-BD9EF720166A-2.png
END:VEVENT
BEGIN:VEVENT
DTSTART;TZID=UTC:20260206T180000
DTEND;TZID=UTC:20260206T193000
DTSTAMP:20260423T072540
CREATED:20260120T173200Z
LAST-MODIFIED:20260203T041629Z
UID:4932-1770400800-1770406200@girlslikegolf.com
SUMMARY:Range Day at Fam Golf & Learning Center (À La Carte)
DESCRIPTION:Level up your game and join us for Range Day at Family Golf & Learning Center! This is a dedicated time for Lifestyle Members to practice their swing\, work on technique\, and connect with other golfers in a fun\, high-energy setting. Whether you’re fine-tuning your skills or just getting some extra reps in\, Range Day is the perfect midweek reset. \nGameplay is FREE for an hour and a half! Just bring yourself\, and we’ll handle the rest. Food and drinks are available for purchase on-site\, so feel free to grab a bite and enjoy the atmosphere. \nWhether you’re working on your drive or just soaking up the winter vibes with fellow golfers\, this is the ultimate way to keep your game sharp during the colder months. RSVP your spot and we’ll see you there!
URL:https://girlslikegolf.com/event/range-day-at-fam-golf-learning-center-a-la-carte/
LOCATION:family and golf learning center\, 3717 tree court industrial blvd\, St louis\, MO\, 63122\, United States
CATEGORIES:Club À La Carte
END:VEVENT
BEGIN:VEVENT
DTSTART;TZID=UTC:20260206T180000
DTEND;TZID=UTC:20260206T193000
DTSTAMP:20260423T072540
CREATED:20260120T172145Z
LAST-MODIFIED:20260121T024454Z
UID:4929-1770400800-1770406200@girlslikegolf.com
SUMMARY:Range Day at Fam Golf & Learning Center (Lifestyle Members)
DESCRIPTION:Level up your game and join us for Range Day at Family Golf & Learning Center! This is a dedicated time for Lifestyle Members to practice their swing\, work on technique\, and connect with other golfers in a fun\, high-energy setting. Whether you’re fine-tuning your skills or just getting some extra reps in\, Range Day is the perfect midweek reset. \nGameplay is FREE for an hour and a half! Just bring yourself\, and we’ll handle the rest. Food and drinks are available for purchase on-site\, so feel free to grab a bite and enjoy the atmosphere. \nWhether you’re working on your drive or just soaking up the winter vibes with fellow golfers\, this is the ultimate way to keep your game sharp during the colder months. RSVP your spot and we’ll see you there!
URL:https://girlslikegolf.com/event/range-day-at-fam-golf-learning-center-lifestyle-members/
LOCATION:family and golf learning center\, 3717 tree court industrial blvd\, St louis\, MO\, 63122\, United States
CATEGORIES:GLG Events,Lifestyle Members Only
END:VEVENT
BEGIN:VEVENT
DTSTART;TZID=UTC:20260201T121500
DTEND;TZID=UTC:20260201T131500
DTSTAMP:20260423T072540
CREATED:20260120T171149Z
LAST-MODIFIED:20260122T010238Z
UID:4926-1769948100-1769951700@girlslikegolf.com
SUMMARY:Barre & Fitness at Barre STL (Public)
DESCRIPTION:https://barrestl.union.site/performances/qreqrjcj \nJoin Girls Like Golf at Barre STL! \nGet ready to sweat\, stretch\, and strengthen — GLG-style! We’re partnering with Barre STL for an exclusive\, private barre class designed to tone your body and lift your spirit. \nIn this 60-minute workout\, you’ll experience Barre STL’s signature method: a fusion of Pilates\, yoga\, strength training\, HIIT\, and dance. It’s low impact but powerful — targeting the small\, deep muscles that make all the difference.  \nExpect: \n • Controlled\, isometric movements that sculpt and define \n • Core-focused exercises that build strength and stability \n • A heart-pumping cardio flow + rejuvenating stretches \n • Motivation from knowledgeable instructors who meet you where you are  \nWhy you’ll love it: \n • Barre is a full-body workout that improves posture\, flexibility\, and endurance.  \n • It’s low impact\, making it friendly for different fitness levels.  \n • It strengthens your mind-body connection — perfect for reducing stress and boosting confidence.  \n • The GLG community + Barre STL energy = the ultimate wellness party — all while supporting your fitness journey. \nBring: \n • A yoga mat \n • Water \n • Comfortable workout clothes \nWhether you’re new to barre or you’re a seasoned pro\, this class is made for you. Come ready to move\, connect\, and feel incredible. \nLimited spots available — RSVP now!  \nhttps://barrestl.union.site/performances/qreqrjcj
URL:https://girlslikegolf.com/event/barre-fitness-at-barre-stl-public/
LOCATION:Barre STL\, 3342 Watson Rd.\, St. Louis\, MO\, 63139\, United States
CATEGORIES:Public Events
ATTACH;FMTTYPE=image/png:https://girlslikegolf.com/wp-content/uploads/2026/01/1AE5B1E6-F679-4207-A329-FE413EE89190.png
END:VEVENT
BEGIN:VEVENT
DTSTART;TZID=UTC:20260201T121500
DTEND;TZID=UTC:20260201T131500
DTSTAMP:20260423T072540
CREATED:20260120T170547Z
LAST-MODIFIED:20260122T010341Z
UID:4923-1769948100-1769951700@girlslikegolf.com
SUMMARY:Barre STL (Lifestyle Members)
DESCRIPTION:https://barrestl.union.site/performances/qreqrjcj \nJoin Girls Like Golf at Barre STL! \nGet ready to sweat\, stretch\, and strengthen — GLG-style! We’re partnering with Barre STL for an exclusive\, private barre class designed to tone your body and lift your spirit. \nIn this 60-minute workout\, you’ll experience Barre STL’s signature method: a fusion of Pilates\, yoga\, strength training\, HIIT\, and dance. It’s low impact but powerful — targeting the small\, deep muscles that make all the difference.  \nExpect: \n • Controlled\, isometric movements that sculpt and define \n • Core-focused exercises that build strength and stability \n • A heart-pumping cardio flow + rejuvenating stretches \n • Motivation from knowledgeable instructors who meet you where you are  \nWhy you’ll love it: \n • Barre is a full-body workout that improves posture\, flexibility\, and endurance.  \n • It’s low impact\, making it friendly for different fitness levels.  \n • It strengthens your mind-body connection — perfect for reducing stress and boosting confidence.  \n • The GLG community + Barre STL energy = the ultimate wellness party — all while supporting your fitness journey. \nBring: \n • A yoga mat \n • Water \n • Comfortable workout clothes \nWhether you’re new to barre or you’re a seasoned pro\, this class is made for you. Come ready to move\, connect\, and feel incredible. \nLimited spots available — RSVP now!  \nhttps://barrestl.union.site/performances/qreqrjcj
URL:https://girlslikegolf.com/event/barre-stl-lifestyle-members/
LOCATION:Barre STL\, 3342 Watson Rd.\, St. Louis\, MO\, 63139\, United States
CATEGORIES:GLG Events,Lifestyle Members Only
ATTACH;FMTTYPE=image/png:https://girlslikegolf.com/wp-content/uploads/2026/01/1AE5B1E6-F679-4207-A329-FE413EE89190.png
END:VEVENT
BEGIN:VEVENT
DTSTART;TZID=UTC:20260201T121500
DTEND;TZID=UTC:20260201T131500
DTSTAMP:20260423T072540
CREATED:20260120T165558Z
LAST-MODIFIED:20260121T014421Z
UID:4919-1769948100-1769951700@girlslikegolf.com
SUMMARY:Barre STL (À La Carte)
DESCRIPTION:https://barrestl.union.site/performances/qreqrjcj \nJoin Girls Like Golf at Barre STL! \nGet ready to sweat\, stretch\, and strengthen. GLG-style! We’re partnering with Barre STL for an exclusive\, private barre class designed to tone your body and lift your spirit. \nIn this 60-minute workout\, you’ll experience Barre STL’s signature method: a fusion of Pilates\, yoga\, strength training\, HIIT\, and dance. It’s low impact but powerful — targeting the small\, deep muscles that make all the difference.  \nExpect: \n • Controlled\, isometric movements that sculpt and define \n • Core-focused exercises that build strength and stability \n • A heart-pumping cardio flow + rejuvenating stretches \n • Motivation from knowledgeable instructors who meet you where you are  \nWhy you’ll love it: \n • Barre is a full-body workout that improves posture\, flexibility\, and endurance.  \n • It’s low impact\, making it friendly for different fitness levels.  \n • It strengthens your mind-body connection — perfect for reducing stress and boosting confidence.  \n • The GLG community + Barre STL energy = the ultimate wellness party — all while supporting your fitness journey. \nBring: \n • A yoga mat \n • Water \n • Comfortable workout clothes \nWhether you’re new to barre or you’re a seasoned pro\, this class is made for you. Come ready to move\, connect\, and feel incredible. \nLimited spots available — RSVP now!  \nhttps://barrestl.union.site/events/barre-stl-barre-stl-x-girls-like-golf-exclusive-private-class#schedule
URL:https://girlslikegolf.com/event/barre-stl-a-la-carte-2/
LOCATION:Barre STL\, 3342 Watson Rd.\, St. Louis\, MO\, 63139\, United States
CATEGORIES:Club À La Carte
END:VEVENT
BEGIN:VEVENT
DTSTART;TZID=UTC:20260125T114500
DTEND;TZID=UTC:20260125T130000
DTSTAMP:20260423T072540
CREATED:20251223T194903Z
LAST-MODIFIED:20260122T010547Z
UID:4702-1769341500-1769346000@girlslikegolf.com
SUMMARY:Hot Pilates at TruFusion Foundry (Public)
DESCRIPTION:Join us at TruFusion for a heated Pilates session focused on strength\, control\, and intentional movement. This low-impact\, high-intensity class is designed to sculpt\, strengthen\, and reset. While connecting with both GLG members and guests in a motivating\, elevated environment. \nWhether you’re part of the GLG community or joining us for the first time\, this wellness experience offers the perfect balance of challenge\, energy\, and connection. \nLimited spots available. RSVP required.Come ready to sweat\, stretch\, and step back into your week feeling strong and aligned.
URL:https://girlslikegolf.com/event/hot-pilates-at-trufusion-foundry-public/
LOCATION:TruFusion Foundry\, 3770 Foundry Way Suite 192\, St. Louis\, MO\, 63110\, United States
CATEGORIES:Public Events
ATTACH;FMTTYPE=image/png:https://girlslikegolf.com/wp-content/uploads/2025/12/FFCA4C52-A0C6-4EF0-AF83-989C480369AE.png
END:VEVENT
BEGIN:VEVENT
DTSTART;TZID=UTC:20260125T114500
DTEND;TZID=UTC:20260125T130000
DTSTAMP:20260423T072540
CREATED:20251223T194314Z
LAST-MODIFIED:20260122T010518Z
UID:4699-1769341500-1769346000@girlslikegolf.com
SUMMARY:Hot Pilates at TruFusion Foundry (À La Carte)
DESCRIPTION:Join us at TruFusion for a heated Pilates session focused on strength\, control\, and intentional movement. This low-impact\, high-intensity class is designed to sculpt\, strengthen\, and reset. While connecting with fellow GLG Members in a motivating\, elevated environment. \nLimited spots available. RSVP required.Come ready to sweat\, stretch\, and step back into your week feeling strong and aligned.
URL:https://girlslikegolf.com/event/hot-pilates-at-trufusion-foundry-a-la-carte/
LOCATION:TruFusion Foundry\, 3770 Foundry Way Suite 192\, St. Louis\, MO\, 63110\, United States
CATEGORIES:Club À La Carte
ATTACH;FMTTYPE=image/png:https://girlslikegolf.com/wp-content/uploads/2025/12/FFCA4C52-A0C6-4EF0-AF83-989C480369AE.png
END:VEVENT
BEGIN:VEVENT
DTSTART;TZID=UTC:20260125T114500
DTEND;TZID=UTC:20260125T130000
DTSTAMP:20260423T072540
CREATED:20251223T194028Z
LAST-MODIFIED:20260122T010622Z
UID:4694-1769341500-1769346000@girlslikegolf.com
SUMMARY:Hot Pilates at TruFusion Foundry (Lifestyle Members)
DESCRIPTION:Join us at TruFusion for a heated Pilates session focused on strength\, control\, and intentional movement. This low-impact\, high-intensity class is designed to sculpt\, strengthen\, and reset. While connecting with fellow GLG Members in a motivating\, elevated environment. \nLimited spots available. RSVP required.Come ready to sweat\, stretch\, and step back into your week feeling strong and aligned.
URL:https://girlslikegolf.com/event/hot-pilates-at-trufusion-foundry-lifestyle-members/
LOCATION:TruFusion Foundry\, 3770 Foundry Way Suite 192\, St. Louis\, MO\, 63110\, United States
CATEGORIES:Lifestyle Members Only
ATTACH;FMTTYPE=image/png:https://girlslikegolf.com/wp-content/uploads/2025/12/FFCA4C52-A0C6-4EF0-AF83-989C480369AE.png
END:VEVENT
END:VCALENDAR